BEGIN:VCALENDAR
VERSION:2.0
PRODID:-//DSYM - ECPv6.6.1//NONSGML v1.0//EN
CALSCALE:GREGORIAN
METHOD:PUBLISH
X-WR-CALNAME:DSYM
X-ORIGINAL-URL:https://dsym.co.uk
X-WR-CALDESC:Events for DSYM
REFRESH-INTERVAL;VALUE=DURATION:PT1H
X-Robots-Tag:noindex
X-PUBLISHED-TTL:PT1H
BEGIN:VTIMEZONE
TZID:Europe/London
BEGIN:DAYLIGHT
TZOFFSETFROM:+0000
TZOFFSETTO:+0100
TZNAME:BST
DTSTART:20230326T010000
END:DAYLIGHT
BEGIN:STANDARD
TZOFFSETFROM:+0100
TZOFFSETTO:+0000
TZNAME:GMT
DTSTART:20231029T010000
END:STANDARD
END:VTIMEZONE
BEGIN:VEVENT
DTSTART;TZID=Europe/London:20230703T183000
DTEND;TZID=Europe/London:20230703T213000
DTSTAMP:20260419T202753
CREATED:20190630T143553Z
LAST-MODIFIED:20230626T163641Z
UID:487-1688409000-1688419800@dsym.co.uk
SUMMARY:Guru Purnima 2023
DESCRIPTION:Hari Om Tat Sat Jai Guru Datta\nDSYM UK invites you to join on the auspicious occasion of Guru Purnima with family and friends. \nDate: 03-JUL-2023 There are two events \na) Morning Programme: Paduka Pujan (Zoom Only event) 06:00 am to 07:15 am \nTo participate in the early morning Pooja\, please have the following items ready: \n– 2 steel thali\, 2 small steel bowls (vatki)\, 2 teaspoons\, 1 copper loto (kalash) \n– Paduka ( if you have a pair) \, 4 sopari\, small ganesh murti (can use sopari instead) \, clean cloth/small towel \n– flowers\, rice\, abil\, gulal kanku\, chandan\, kapoor\, nadachadi\, panchamrut\, devo\, aarti\, agarbatti\, prasad\, dry fruits\, nagvel paan ( badam\, kaju\, sultanas) \, patlo\, aasan for pooja (red material). \nPlease login at least 5 minutes before the start time to ensure smooth running of the session. \nhttps://zoom.us/j/460859134?pwd=cWsvbWpWUW5ZUE9Ra1hObnFpSEl4UT09  \nMeeting ID: 460 859 134      Password: 101101    Find your local number: https://us04web.zoom.us/u/fwQidbn8U \nb) Evening programme at VHP (No zoom) : 06:30 pm to 09:30 pm \nVenue: Vishwa Hindu Parishad Centre (VHP)\n10 Thornton Row\, Thornton Heath\,\nSurrey CR7 6JN \nFor more details\, download the leaflet : Guru Purnima Leaflet \nDinner will be served from 6.30 p.m. – 7.30p.m. followed by \nPrayers\, Bhajans\, Talk on the essence of a Guru\, Meditation and Aarti. \nc) Evening programme at Leicester: 07:30 to 08:45 pm \nVenue: Shivalay TLBS\, 15 Belgrave road\, LE4 6AR \nFor more details\, download Guru Purnima Leicester \nGuru Purnimadays0-102-2hours0-1minutes-5-8seconds-5-3\nHari Om Tat Sat Jai Guru Datta
URL:https://dsym.co.uk/event/guru-purnima-2023/
ATTACH;FMTTYPE=image/png:https://dsym.co.uk/wp-content/uploads/2021/09/Bapushree.png
ORGANIZER;CN="DSYM UK":MAILTO:info@dsym.co.uk
END:VEVENT
END:VCALENDAR