BEGIN:VCALENDAR
VERSION:2.0
PRODID:-//DSYM - ECPv6.6.1//NONSGML v1.0//EN
CALSCALE:GREGORIAN
METHOD:PUBLISH
X-WR-CALNAME:DSYM
X-ORIGINAL-URL:https://dsym.co.uk
X-WR-CALDESC:Events for DSYM
REFRESH-INTERVAL;VALUE=DURATION:PT1H
X-Robots-Tag:noindex
X-PUBLISHED-TTL:PT1H
BEGIN:VTIMEZONE
TZID:Europe/London
BEGIN:DAYLIGHT
TZOFFSETFROM:+0000
TZOFFSETTO:+0100
TZNAME:BST
DTSTART:20190331T010000
END:DAYLIGHT
BEGIN:STANDARD
TZOFFSETFROM:+0100
TZOFFSETTO:+0000
TZNAME:GMT
DTSTART:20191027T010000
END:STANDARD
BEGIN:DAYLIGHT
TZOFFSETFROM:+0000
TZOFFSETTO:+0100
TZNAME:BST
DTSTART:20200329T010000
END:DAYLIGHT
BEGIN:STANDARD
TZOFFSETFROM:+0100
TZOFFSETTO:+0000
TZNAME:GMT
DTSTART:20201025T010000
END:STANDARD
BEGIN:DAYLIGHT
TZOFFSETFROM:+0000
TZOFFSETTO:+0100
TZNAME:BST
DTSTART:20210328T010000
END:DAYLIGHT
BEGIN:STANDARD
TZOFFSETFROM:+0100
TZOFFSETTO:+0000
TZNAME:GMT
DTSTART:20211031T010000
END:STANDARD
BEGIN:DAYLIGHT
TZOFFSETFROM:+0000
TZOFFSETTO:+0100
TZNAME:BST
DTSTART:20220327T010000
END:DAYLIGHT
BEGIN:STANDARD
TZOFFSETFROM:+0100
TZOFFSETTO:+0000
TZNAME:GMT
DTSTART:20221030T010000
END:STANDARD
END:VTIMEZONE
BEGIN:VEVENT
DTSTART;TZID=Europe/London:20221207T180000
DTEND;TZID=Europe/London:20221207T213000
DTSTAMP:20260420T052006
CREATED:20180930T163218Z
LAST-MODIFIED:20221125T075638Z
UID:68-1670436000-1670448600@dsym.co.uk
SUMMARY:Datta Jayanti Evening Programme
DESCRIPTION:Namaste Everyone and Jai Guru Datta\, \nDSYM (UK) warmly invites all devotees to celebrate the auspicious occasion of Dattatreya Jayanti.\n \nDate: 07-DECEMBER-2022 (Wednesday) \nVenue: Vishwa Hindu Parishad Centre (VHP) \n             10 Thornton Row\,  Thornton Heath\, Surrey\, CR7 6JN \nTimings: \n6.30 pm to 7.30pm: Bhojan \n7.45 pm to 9.30pm: Programme  \nProgramme will include:  \nBhojan\, Pravachan by Guest Speakers from Living Vedanta\, Bhajans\, \nDhun & Dhyaan (Chanting & Meditation) Followed by Aarti and Prashad.  \n  \n*Please RSVP your attendance for catering purposes​* with any of the below options.   \n1) To Bhirenbhai: 07771 808099  \nOR  \n2) Email: info@dsym.co.uk  \nOR  \n3) Please submit your response on:  \nhttps://forms.gle/nuDQbwmN1mCoqzoc7     \nHari Om Tat Sat Jai Guru Datta\, \nDSYM Team
URL:https://dsym.co.uk/event/datta-jayanti/
LOCATION:Online
CATEGORIES:Yearly
ATTACH;FMTTYPE=image/jpeg:https://dsym.co.uk/wp-content/uploads/2018/12/Lord_Datta_3.jpg
ORGANIZER;CN="DSYM UK":MAILTO:info@dsym.co.uk
END:VEVENT
BEGIN:VEVENT
DTSTART;TZID=Europe/London:20201230T065500
DTEND;TZID=Europe/London:20201230T084000
DTSTAMP:20260420T052006
CREATED:20201216T191422Z
LAST-MODIFIED:20201216T192335Z
UID:588-1609311300-1609317600@dsym.co.uk
SUMMARY:Datta Jayanti Morning Programme
DESCRIPTION:Datta Jayanti Morningdays0-193-7hours-2-3minutes-2-6seconds0-6\nDatta Sahaj Yoga Mission UK cordially invites you to the celebration of DATTATREYA JAYANTI on 30-December-2020. \n\nhttps://zoom.us/j/460859134?pwd=cWsvbWpWUW5ZUE9Ra1hObnFpSEl4UT09\n\nMeeting ID: 460 859 134     Password: 101101 \n\nMorning programme: Pooja\, Chanting & Meditation from 6.55am – 8.40am \n\nFor more details please contact anyone below on WhatsApp \nPushpaben Bava: 07903 223550\nPriyaben Patel: 07985 110979
URL:https://dsym.co.uk/event/datta-jayanti-morning-programme/
LOCATION:Online
CATEGORIES:Yearly
ATTACH;FMTTYPE=image/jpeg:https://dsym.co.uk/wp-content/uploads/2018/11/Guru_Datta.jpg
ORGANIZER;CN="DSYM UK":MAILTO:info@dsym.co.uk
END:VEVENT
BEGIN:VEVENT
DTSTART;TZID=Europe/London:20201115T110000
DTEND;TZID=Europe/London:20201115T130000
DTSTAMP:20260420T052006
CREATED:20181111T174347Z
LAST-MODIFIED:20201108T221314Z
UID:358-1605438000-1605445200@dsym.co.uk
SUMMARY:Sakshatkar Din
DESCRIPTION:Please join us to celebrate “Sakshatkar Din” on 15th November. \nhttps://zoom.us/j/460859134?pwd=cWsvbWpWUW5ZUE9Ra1hObnFpSEl4UT09 \nMeeting ID: 460 859 134     Password: 101101 \nFor more details please contact anyone below on WhatsApp \nPushpaben Bava: 07903 223550\nPriyaben Patel: 07985 110979 \n 
URL:https://dsym.co.uk/event/sakshatkar-din/
LOCATION:Online
CATEGORIES:Yearly
ATTACH;FMTTYPE=image/jpeg:https://dsym.co.uk/wp-content/uploads/2018/11/Guru_Datta.jpg
ORGANIZER;CN="DSYM UK":MAILTO:info@dsym.co.uk
END:VEVENT
BEGIN:VEVENT
DTSTART;TZID=Europe/London:20190623T100000
DTEND;TZID=Europe/London:20190623T140000
DTSTAMP:20260420T052006
CREATED:20190601T214128Z
LAST-MODIFIED:20190609T123349Z
UID:443-1561284000-1561298400@dsym.co.uk
SUMMARY:International Day of Yoga 2019
DESCRIPTION:Date: 23-JUN-2019  Time: 10:00 to 14:00 hours. \nMore details : International day of Yoga 2019 \nRegister : Register for the event \nGuru Purnimadays0-102-2hours-10minutes-5-1seconds0-6\nPlease bring your own yoga mats (or blanket or similar to sit on).
URL:https://dsym.co.uk/event/international-day-of-yoga-2019/
CATEGORIES:Yearly
ATTACH;FMTTYPE=image/png:https://dsym.co.uk/wp-content/uploads/2019/06/DSYM_IDY_2019.png
ORGANIZER;CN="DSYM UK":MAILTO:info@dsym.co.uk
END:VEVENT
END:VCALENDAR