BEGIN:VCALENDAR
VERSION:2.0
PRODID:-//DSYM - ECPv6.6.1//NONSGML v1.0//EN
CALSCALE:GREGORIAN
METHOD:PUBLISH
X-ORIGINAL-URL:https://dsym.co.uk
X-WR-CALDESC:Events for DSYM
REFRESH-INTERVAL;VALUE=DURATION:PT1H
X-Robots-Tag:noindex
X-PUBLISHED-TTL:PT1H
BEGIN:VTIMEZONE
TZID:Europe/London
BEGIN:DAYLIGHT
TZOFFSETFROM:+0000
TZOFFSETTO:+0100
TZNAME:BST
DTSTART:20230326T010000
END:DAYLIGHT
BEGIN:STANDARD
TZOFFSETFROM:+0100
TZOFFSETTO:+0000
TZNAME:GMT
DTSTART:20231029T010000
END:STANDARD
END:VTIMEZONE
BEGIN:VEVENT
DTSTART;TZID=Europe/London:20230621T190000
DTEND;TZID=Europe/London:20230621T210000
DTSTAMP:20260419T202912
CREATED:20210621T075231Z
LAST-MODIFIED:20230618T101630Z
UID:778-1687374000-1687381200@dsym.co.uk
SUMMARY:International Day of Yoga 2023
DESCRIPTION:Morning Programme (Zoom only)\nDate: 21 June 2023\nTime: 6.00 am to 7.00 am\nActivities: Chanting & Meditation \nLive Zoom stream: Event on Zoom       Meeting ID: 460 859 134     Password: 101101 \nEvening Programme\nDate: 21 June 2023\nTime: 7.00 PM TO 9.00 PM\nVenue: Vishwa Hindu Parishad Centre (VHP)\n10 Thornton Row\, Thornton Heath\,\nSurrey CR7 6JN \nLive Zoom stream: Event on Zoom     Meeting ID: 460 859 134     Password: 101101 \nMore details: IDY Leaflet \nwww.dsym.co.uk               email: info@dsym.co.uk                   tel: +44 (0)7903 223 550
URL:https://dsym.co.uk/event/idy-2023/
LOCATION:VHP Hall\, Vishwa Hindu Parishad Centre\, 10 Thornton Row\, Thornton Heath\, Surrey\, CR7 6JN\, United Kingdom
CATEGORIES:Yearly
ATTACH;FMTTYPE=image/png:https://dsym.co.uk/wp-content/uploads/2019/06/IDY_21_JUNE.png
ORGANIZER;CN="DSYM UK":MAILTO:info@dsym.co.uk
END:VEVENT
END:VCALENDAR